BEGIN:VCALENDAR
VERSION:2.0
PRODID:-//AFGS.org - ECPv6.15.20//NONSGML v1.0//EN
CALSCALE:GREGORIAN
METHOD:PUBLISH
X-WR-CALNAME:AFGS.org
X-ORIGINAL-URL:https://afgs.org
X-WR-CALDESC:Events for AFGS.org
REFRESH-INTERVAL;VALUE=DURATION:PT1H
X-Robots-Tag:noindex
X-PUBLISHED-TTL:PT1H
BEGIN:VTIMEZONE
TZID:America/New_York
BEGIN:DAYLIGHT
TZOFFSETFROM:-0500
TZOFFSETTO:-0400
TZNAME:EDT
DTSTART:20250309T070000
END:DAYLIGHT
BEGIN:STANDARD
TZOFFSETFROM:-0400
TZOFFSETTO:-0500
TZNAME:EST
DTSTART:20251102T060000
END:STANDARD
BEGIN:DAYLIGHT
TZOFFSETFROM:-0500
TZOFFSETTO:-0400
TZNAME:EDT
DTSTART:20260308T070000
END:DAYLIGHT
BEGIN:STANDARD
TZOFFSETFROM:-0400
TZOFFSETTO:-0500
TZNAME:EST
DTSTART:20261101T060000
END:STANDARD
BEGIN:DAYLIGHT
TZOFFSETFROM:-0500
TZOFFSETTO:-0400
TZNAME:EDT
DTSTART:20270314T070000
END:DAYLIGHT
BEGIN:STANDARD
TZOFFSETFROM:-0400
TZOFFSETTO:-0500
TZNAME:EST
DTSTART:20271107T060000
END:STANDARD
END:VTIMEZONE
BEGIN:VEVENT
DTSTART;TZID=America/New_York:20260418T130000
DTEND;TZID=America/New_York:20260418T143000
DTSTAMP:20260424T123358
CREATED:20260408T130550Z
LAST-MODIFIED:20260410T002043Z
UID:16910-1776517200-1776522600@afgs.org
SUMMARY:Using City Directories for Genealogy Research
DESCRIPTION:
URL:https://afgs.org/event/using-city-directories-for-genealogy-research-by-susan-m-oconnor/
LOCATION:American-French Genealogical Society\, 78 Earle Street\, Woonsocket\, RI\, 02895\, United States
END:VEVENT
END:VCALENDAR