BEGIN:VCALENDAR
VERSION:2.0
PRODID:-//AFGS.org - ECPv6.15.20//NONSGML v1.0//EN
CALSCALE:GREGORIAN
METHOD:PUBLISH
X-WR-CALNAME:AFGS.org
X-ORIGINAL-URL:https://afgs.org
X-WR-CALDESC:Events for AFGS.org
REFRESH-INTERVAL;VALUE=DURATION:PT1H
X-Robots-Tag:noindex
X-PUBLISHED-TTL:PT1H
BEGIN:VTIMEZONE
TZID:America/New_York
BEGIN:DAYLIGHT
TZOFFSETFROM:-0500
TZOFFSETTO:-0400
TZNAME:EDT
DTSTART:20250309T070000
END:DAYLIGHT
BEGIN:STANDARD
TZOFFSETFROM:-0400
TZOFFSETTO:-0500
TZNAME:EST
DTSTART:20251102T060000
END:STANDARD
BEGIN:DAYLIGHT
TZOFFSETFROM:-0500
TZOFFSETTO:-0400
TZNAME:EDT
DTSTART:20260308T070000
END:DAYLIGHT
BEGIN:STANDARD
TZOFFSETFROM:-0400
TZOFFSETTO:-0500
TZNAME:EST
DTSTART:20261101T060000
END:STANDARD
BEGIN:DAYLIGHT
TZOFFSETFROM:-0500
TZOFFSETTO:-0400
TZNAME:EDT
DTSTART:20270314T070000
END:DAYLIGHT
BEGIN:STANDARD
TZOFFSETFROM:-0400
TZOFFSETTO:-0500
TZNAME:EST
DTSTART:20271107T060000
END:STANDARD
END:VTIMEZONE
BEGIN:VEVENT
DTSTART;TZID=America/New_York:20260307T130000
DTEND;TZID=America/New_York:20260307T140000
DTSTAMP:20260425T075035
CREATED:20260129T171857Z
LAST-MODIFIED:20260408T032020Z
UID:16586-1772888400-1772892000@afgs.org
SUMMARY:Irish Famine Migration to Québec & Bangor\, ME
DESCRIPTION:Why did so many Irish migrate to Canada in the nineteenth century? For the most part\, history tells us that they abandoned their homeland because of famine\, political strife\, epidemics\, religious suppression\, and evictions. Kinealy writes that between 1841 and 1852\, Ireland’s population dropped by 1\,649\,330 people\, with 1\,289\,133 of them migrating. Akenson states that between 1841 and 1851\, 822\,675 Irish emigrated to the United States\, and 329\,321 migrated to Canada.Irish Catholics had a considerable impact on the city of Quebec. Following the migration journey of the Doran family\, from Summerslane\, Kilkenny\, this presentation is a discussion of what life might have been like in Quebec in the 1850s for Irish Catholic migrants. The Migration to Quebec is investigated with a study of the types of jobs they had\, where they lived\, and diseases within the community. Orphaned Irish children and the first ethnic church built for the Irish Catholics are also considered. Three of the Doran siblings lived out their lives in Quebec\, while two continued their migration to Bangor\, Maine.
URL:https://afgs.org/event/irish-famine-migration-to-quebec-bangor-me/
LOCATION:AFGS Library\, 78 Earle St\, Woonsocket\, RI\, 02895\, United States
END:VEVENT
END:VCALENDAR