BEGIN:VCALENDAR
VERSION:2.0
PRODID:-//AFGS.org - ECPv6.15.20//NONSGML v1.0//EN
CALSCALE:GREGORIAN
METHOD:PUBLISH
X-ORIGINAL-URL:https://afgs.org
X-WR-CALDESC:Events for AFGS.org
REFRESH-INTERVAL;VALUE=DURATION:PT1H
X-Robots-Tag:noindex
X-PUBLISHED-TTL:PT1H
BEGIN:VTIMEZONE
TZID:America/New_York
BEGIN:DAYLIGHT
TZOFFSETFROM:-0500
TZOFFSETTO:-0400
TZNAME:EDT
DTSTART:20250309T070000
END:DAYLIGHT
BEGIN:STANDARD
TZOFFSETFROM:-0400
TZOFFSETTO:-0500
TZNAME:EST
DTSTART:20251102T060000
END:STANDARD
BEGIN:DAYLIGHT
TZOFFSETFROM:-0500
TZOFFSETTO:-0400
TZNAME:EDT
DTSTART:20260308T070000
END:DAYLIGHT
BEGIN:STANDARD
TZOFFSETFROM:-0400
TZOFFSETTO:-0500
TZNAME:EST
DTSTART:20261101T060000
END:STANDARD
BEGIN:DAYLIGHT
TZOFFSETFROM:-0500
TZOFFSETTO:-0400
TZNAME:EDT
DTSTART:20270314T070000
END:DAYLIGHT
BEGIN:STANDARD
TZOFFSETFROM:-0400
TZOFFSETTO:-0500
TZNAME:EST
DTSTART:20271107T060000
END:STANDARD
END:VTIMEZONE
BEGIN:VEVENT
DTSTART;TZID=America/New_York:20260502T130000
DTEND;TZID=America/New_York:20260502T150000
DTSTAMP:20260424T093127
CREATED:20260423T131619Z
LAST-MODIFIED:20260423T131621Z
UID:16964-1777726800-1777734000@afgs.org
SUMMARY:Soldiers to Settlers by Peter Gagne
DESCRIPTION:Peter is the author of a two-volume book of the same name.  His book identifies more than 700 soldiers and officers of the 1\,200 men who were sent to New France in 1665 to put an end to the constant threat posed by the Iroquois and to secure the colony that would become modern-day Quebec. At the end of their three-year mission\, the soldiers and officers were encouraged to settle in Canada. Many of the men founded families with the Filles du Roi\, the King’s Daughters.   \n\n\n\nIn this presentation\, Peter will speak about the men and tell the stories of their lives and how these brothers-in-arms often became brothers-in-law or otherwise remained close\, even after their service was over.
URL:https://afgs.org/event/soldiers-to-settlers-by-peter-gagne/
LOCATION:American-French Genealogical Society\, 78 Earle Street\, Woonsocket\, RI\, 02895\, United States
ATTACH;FMTTYPE=image/jpeg:https://afgs.org/wp-content/uploads/2025/11/from_soldiers_to_settlers.jpg
END:VEVENT
END:VCALENDAR